BEGIN:VCALENDAR
VERSION:2.0
PRODID:-//eventon.com NONSGML v1.0//EN
BEGIN:VEVENT
UID:69e4f3b2b2288
DTSTAMP:20260419T112434
DTSTART:20260419T180000Z
DTEND:20260419T190000Z
TZID:America/New_York
LOCATION:Sims Atrium 
SUMMARY:Piano Dedication Concert
DESCRIPTION: Concert pianists Julie Coucheron and Elizabeth Pridgeon will perform a program of piano duo repertoire in Sims Atrium. The free concert\,  in memory of Rose Mary Kolpatzki who bequeathed the Steinway concert grand piano to Redeemer\,  features the instrument’s public debut. Both pianists perform regularly across the United States and Europe. Ms. Coucheron collaborates often with[..]\nhttps://www.redeemer.org/events/piano-dedication-concert/
URL:https://www.redeemer.org/events/piano-dedication-concert/
END:VEVENT
END:VCALENDAR