BEGIN:VCALENDAR
VERSION:2.0
PRODID:-//eventon.com NONSGML v1.0//EN
BEGIN:VEVENT
UID:69e4f3f94e9d1
DTSTAMP:20260419T112545
DTSTART:20260426T134500Z
DTEND:20260426T140000Z
TZID:America/New_York
LOCATION:Sims Atrium 
SUMMARY:Spring Ring
DESCRIPTION: The Carillon Ringers present a handbell mini-concert of music from the movies\,  in Sims Atrium following each service 9:45-10:00 & 12:15-12:30\nhttps://www.redeemer.org/events/spring-ring/
URL:https://www.redeemer.org/events/spring-ring/
END:VEVENT
END:VCALENDAR